BEGIN:VCALENDAR
VERSION:2.0
PRODID:-//Sophicity/Tribune/Statham, GA
BEGIN:VEVENT
DTSTAMP:20260421T115320Z
UID:2b5bab4f-7068-426e-abd4-8cca60bb64aa-4690
DTSTART:20260602T223000Z
DTEND:20260602T223000Z
LOCATION:Statham Community Center, 336 Jefferson St. Statham GA 30666
CLASS:PUBLIC
SUMMARY:City Council Meeting - Work Session
END:VEVENT
END:VCALENDAR
